Workbook

Sheet 注意事項
A1: 【お願い】 | B1: 賃金台帳に記載の通りに各項目（氏名、基本給、手当等）の記載をお願いします。
A2: (A) 氏名 | B2: 基準月（2025年12月）から賃上げ月までの期間を通して在籍する従業員全員について記入すること（欄が不足する場合は本様式を複数使用すること）
A3: (B)基本給 | B3: 月給の場合 基本賃金及び手当（通勤手当、所定外賃金を除く）の金額
A4: （月給/日給/時給） | B4: 日給の場合 日給の額
B5: 時給の場合、時給の額
B6: ※基準月と賃上げ月で給与形態が異なる従業員は、賃上げ率の算出対象となりませんので、ご注意ください。
A7: (C)支給月/賃上げ月 | B7: 「基準月」は2025年12月、「賃上げ月」は賃上げ実施後の賃金支給月
A8: (D) 控除額 | B8: 月給の場合のみ、次の休業期間に支給された賃金
B9: ①療養による休業期間
B10: ②女性の産前産後の休業期間（労働基準法）
B11: ③使用者の責めに帰すべき事由による休業期間
B12: ④育児休業、介護休業（育児・介護休業法）
B13: ⑤試用期間
A14: (E)所定労働時間 | B14: 月給の場合 160時間（1ヵ月の勤務日を20日、1日の労働時間を8時間とみなします）
B15: 日給の場合 8時間（1日の労働時間を8時間とみなします）
B16: 時給の場合 1時間
A17: (F)時給換算額 | B17: 時給換算額＝合計（基本給＋算入手当－控除額）÷(E)所定労働時間 ・・・ 小数点第2位を四捨五入
A18: (G)賃上げ率 | B18: （賃上げ月_時給換算額－基準月_時給換算額）÷基準月_時給換算額×100（％） ・・・ 小数点第4位を切り捨て

Sheet 入力見本
A1: （第8号様式 別紙1）
A2: 賃上げ環境整備補助金2026事務局 様
A4: 管理番号 | C4: ● | D4: ● | E4: ● | F4: ● | G4: ● | H4: ● | I4: ●
A5: ※管理番号は交付決定通知書に記載しています。
A7: 所在地 | B7: 〒 001 － 0000
B8: 北海道札幌市中央区北●条西●丁目●番地 ●●ビル 3階
A9: 事業者 | B9: フリガナ | D9: ホッカイドウタロウカブシキガシャ
B10: 法人名又は屋号 | D10: 北海道太郎株式会社
B11: 代表者役職 | D11: 代表取締役社長
B12: フリガナ | D12: （セイ） | E12: ホッカイドウ | H12: （メイ） | I12: タロウ
B13: 代表者氏名 | D13: （姓） | E13: 北海道 | H13: （名） | I13: 太郎
A15: 中小・小規模企業賃上げ環境整備等支援事業費補助金 賃上げ実績報告書 | N15: =COUNTA(C24:L24) -> 3
A16: 集計対象人数 | C16: =COUNTA(C24:L24) -> 3 | G16: 場内平均賃上げ率 | I16: =IFERROR(ROUNDDOWN((AVERAGE(C63:L63)-AVERAGE(C62:L62))/AVERAGE(C62:L62)*100,3)/100,"") -> 0.05278 | N16: =IFERROR(AVERAGE(C64:L64),"") -> 0.054306667
A17: 手当名称入力欄 | C17: 手当1 | D17: 役職 | F17: 手当 | G17: 手当6 | J17: 手当
A18: 賃上げ算入の手当名称 を記載してください。 （例：役職 / 技能） | C18: 手当2 | D18: 技術 | F18: 手当 | G18: 手当7 | J18: 手当
C19: 手当3 | D19: 資格 | F19: 手当 | G19: 手当8 | J19: 手当
C20: 手当4 | F20: 手当 | G20: 手当9 | J20: 手当
C21: 手当5 | F21: 手当 | G21: 手当10 | J21: 手当
A23: No | C23: 1 | D23: 2 | E23: 3 | F23: 4 | G23: 5 | H23: 6 | I23: 7 | J23: 8 | K23: 9 | L23: 10
A24: （A）氏名 | B24: 入力 | C24: 山田 太郎 | D24: 佐藤 一郎 | E24: 山田 花子
A25: 雇用形態 | B25: 入力 | C25: 正社員 | D25: 正社員 | E25: パート
A26: 給与形態 | B26: 入力 | C26: 月給 | D26: 月給 | E26: 日給
A27: （E）月平均所定労働時間 | B27: 自動 | C27: =IF(C26="","",IF(C26="月給",160,"-")) -> 160 | D27: =IF(D26="","",IF(D26="月給",160,"-")) -> 160 | E27: =IF(E26="","",IF(E26="月給",160,"-")) -> - | F27: =IF(F26="","",IF(F26="月給",160,"-")) | G27: =IF(G26="","",IF(G26="月給",160,"-")) | H27: =IF(H26="","",IF(H26="月給",160,"-")) | I27: =IF(I26="","",IF(I26="月給",160,"-")) | J27: =IF(J26="","",IF(J26="月給",160,"-")) | ... L27: =IF(L26="","",IF(L26="月給",160,"-"))
A28: （E）1日所定労働時間 | B28: 自動 | C28: =IF(C26="","",IF(OR(C26="月給",C26="日給"),8,IF(C26="時給",1,""))) -> 8 | D28: =IF(D26="","",IF(OR(D26="月給",D26="日給"),8,IF(D26="時給",1,""))) -> 8 | E28: =IF(E26="","",IF(OR(E26="月給",E26="日給"),8,IF(E26="時給",1,""))) -> 8 | F28: =IF(F26="","",IF(OR(F26="月給",F26="日給"),8,IF(F26="時給",1,""))) | G28: =IF(G26="","",IF(OR(G26="月給",G26="日給"),8,IF(G26="時給",1,""))) | H28: =IF(H26="","",IF(OR(H26="月給",H26="日給"),8,IF(H26="時給",1,""))) | I28: =IF(I26="","",IF(OR(I26="月給",I26="日給"),8,IF(I26="時給",1,""))) | J28: =IF(J26="","",IF(OR(J26="月給",J26="日給"),8,IF(J26="時給",1,""))) | ... L28: =IF(L26="","",IF(OR(L26="月給",L26="日給"),8,IF(L26="時給",1,"")))
A29: 基準月
A30: （C）基準月 | C30: 45992
A31: 支給日 | B31: 入力 | C31: 46371 | D31: 46371 | E31: 46371
A32: （B）基本給 （月給/日給/時給） | B32: 入力 | C32: 200000 | D32: 180000 | E32: 7000
A33: =IF($D$17="","手当1",IF(RIGHT($D$17,2)="手当",$D$17,$D$17&"手当")) -> 役職手当 | B33: 入力 | C33: 30000 | D33: 0 | E33: 0
A34: =IF($D$18="","手当2",IF(RIGHT($D$18,2)="手当",$D$18,$D$18&"手当")) -> 技術手当 | B34: 入力 | C34: 5000 | D34: 8000 | E34: 0
A35: =IF($D$19="","手当3",IF(RIGHT($D$19,2)="手当",$D$19,$D$19&"手当")) -> 資格手当 | B35: 入力 | C35: 0 | D35: 5000 | E35: 0
A36: =IF($D$20="","手当4",IF(RIGHT($D$20,2)="手当",$D$20,$D$20&"手当")) -> 手当4 | B36: 入力
A37: =IF($D$21="","手当5",IF(RIGHT($D$21,2)="手当",$D$21,$D$21&"手当")) -> 手当5 | B37: 入力
A38: =IF($H$17="","手当6",IF(RIGHT($H$17,2)="手当",$H$17,$H$17&"手当")) -> 手当6 | B38: 入力
A39: =IF($H$18="","手当7",IF(RIGHT($H$18,2)="手当",$H$18,$H$18&"手当")) -> 手当7 | B39: 入力
A40: =IF($H$19="","手当8",IF(RIGHT($H$19,2)="手当",$H$19,$H$19&"手当")) -> 手当8 | B40: 入力
A41: =IF($H$20="","手当9",IF(RIGHT($H$20,2)="手当",$H$20,$H$20&"手当")) -> 手当9 | B41: 入力
A42: =IF($H$21="","手当10",IF(RIGHT($H$21,2)="手当",$H$21,$H$21&"手当")) -> 手当10 | B42: 入力
A43: （D）控除額 | B43: 入力
A44: 合計 | B44: 自動 | C44: =IF(OR(C26="",C32=""),"",IFERROR(IF(C26="月給",SUM(C32:C42)-IF(C43="",0,C43),IF(C26="日給",C32*20+SUM(C33:C42),IF(C26="時給",C32*160+SUM(C33:C42),""))),"")) -> 235000 | D44: =IF(OR(D26="",D32=""),"",IFERROR(IF(D26="月給",SUM(D32:D42)-IF(D43="",0,D43),IF(D26="日給",D32*20+SUM(D33:D42),IF(D26="時給",D32*160+SUM(D33:D42),""))),"")) -> 193000 | E44: =IF(OR(E26="",E32=""),"",IFERROR(IF(E26="月給",SUM(E32:E42)-IF(E43="",0,E43),IF(E26="日給",E32*20+SUM(E33:E42),IF(E26="時給",E32*160+SUM(E33:E42),""))),"")) -> 140000 | F44: =IF(COUNTA(F32:F42)=0,"",SUM(F32:F42)-F43) | G44: =IF(COUNTA(G32:G42)=0,"",SUM(G32:G42)-G43) | H44: =IF(COUNTA(H32:H42)=0,"",SUM(H32:H42)-H43) | I44: =IF(COUNTA(I32:I42)=0,"",SUM(I32:I42)-I43) | J44: =IF(COUNTA(J32:J42)=0,"",SUM(J32:J42)-J43) | K44: =IF(COUNTA(K32:K42)=0,"",SUM(K32:K42)-K43) | L44: =IF(COUNTA(L32:L42)=0,"",SUM(L32:L42)-L43)
...

Sheet 実績報告（1人～10人）
A1: （第8号様式 別紙1）
A2: 賃上げ環境整備補助金2026事務局 様
A4: 管理番号
A5: ※管理番号は交付決定通知書に記載しています。
A7: 所在地 | B7: 〒
A9: 事業者 | B9: フリガナ
B10: 法人名又は屋号
B11: 代表者役職
B12: フリガナ | D12: （セイ） | H12: （メイ）
B13: 代表者氏名 | D13: （姓） | H13: （名）
A15: 中小・小規模企業賃上げ環境整備等支援事業費補助金 賃上げ実績報告書
A16: 集計対象人数 | C16: =COUNTA(C24:L24)+COUNTA('11人～20人'!C3:L3) -> 0 | G16: 場内平均賃上げ率 | I16: =IFERROR(ROUNDDOWN((AVERAGE(C63:L63,'11人～20人'!C42:L42)-AVERAGE(C62:L62,'11人～20人'!C41:L41))/AVERAGE(C62:L62,'11人～20人'!C41:L41)*100,3)/100,"")
A17: 手当名称入力欄 | C17: 手当1 | F17: 手当 | G17: 手当6 | J17: 手当
A18: 賃上げ算入の手当名称 を記載してください。 （例：役職 / 技能） | C18: 手当2 | F18: 手当 | G18: 手当7 | J18: 手当
C19: 手当3 | F19: 手当 | G19: 手当8 | J19: 手当
C20: 手当4 | F20: 手当 | G20: 手当9 | J20: 手当
C21: 手当5 | F21: 手当 | G21: 手当10 | J21: 手当
A23: No | C23: 1 | D23: 2 | E23: 3 | F23: 4 | G23: 5 | H23: 6 | I23: 7 | J23: 8 | K23: 9 | L23: 10
A24: （A）氏名 | B24: 入力
A25: 雇用形態 | B25: 入力
A26: 給与形態 | B26: 入力
A27: （E）月平均所定労働時間 | B27: 自動 | C27: =IF(C26="","",IF(C26="月給",160,"-")) | D27: =IF(D26="","",IF(D26="月給",160,"-")) | E27: =IF(E26="","",IF(E26="月給",160,"-")) | F27: =IF(F26="","",IF(F26="月給",160,"-")) | G27: =IF(G26="","",IF(G26="月給",160,"-")) | H27: =IF(H26="","",IF(H26="月給",160,"-")) | I27: =IF(I26="","",IF(I26="月給",160,"-")) | J27: =IF(J26="","",IF(J26="月給",160,"-")) | ... L27: =IF(L26="","",IF(L26="月給",160,"-"))
A28: （E）1日所定労働時間 | B28: 自動 | C28: =IF(C26="","",IF(OR(C26="月給",C26="日給"),8,IF(C26="時給",1,""))) | D28: =IF(D26="","",IF(OR(D26="月給",D26="日給"),8,IF(D26="時給",1,""))) | E28: =IF(E26="","",IF(OR(E26="月給",E26="日給"),8,IF(E26="時給",1,""))) | F28: =IF(F26="","",IF(OR(F26="月給",F26="日給"),8,IF(F26="時給",1,""))) | G28: =IF(G26="","",IF(OR(G26="月給",G26="日給"),8,IF(G26="時給",1,""))) | H28: =IF(H26="","",IF(OR(H26="月給",H26="日給"),8,IF(H26="時給",1,""))) | I28: =IF(I26="","",IF(OR(I26="月給",I26="日給"),8,IF(I26="時給",1,""))) | J28: =IF(J26="","",IF(OR(J26="月給",J26="日給"),8,IF(J26="時給",1,""))) | ... L28: =IF(L26="","",IF(OR(L26="月給",L26="日給"),8,IF(L26="時給",1,"")))
A29: 基準月
A30: （C）基準月 | C30: 45992
A31: 支給日 | B31: 入力
A32: （B）基本給 （月給/日給/時給） | B32: 入力
A33: =IF($D$17="","手当1",IF(RIGHT($D$17,2)="手当",$D$17,$D$17&"手当")) -> 手当1 | B33: 入力
A34: =IF($D$18="","手当2",IF(RIGHT($D$18,2)="手当",$D$18,$D$18&"手当")) -> 手当2 | B34: 入力
A35: =IF($D$19="","手当3",IF(RIGHT($D$19,2)="手当",$D$19,$D$19&"手当")) -> 手当3 | B35: 入力
A36: =IF($D$20="","手当4",IF(RIGHT($D$20,2)="手当",$D$20,$D$20&"手当")) -> 手当4 | B36: 入力
A37: =IF($D$21="","手当5",IF(RIGHT($D$21,2)="手当",$D$21,$D$21&"手当")) -> 手当5 | B37: 入力
A38: =IF($H$17="","手当6",IF(RIGHT($H$17,2)="手当",$H$17,$H$17&"手当")) -> 手当6 | B38: 入力
A39: =IF($H$18="","手当7",IF(RIGHT($H$18,2)="手当",$H$18,$H$18&"手当")) -> 手当7 | B39: 入力
A40: =IF($H$19="","手当8",IF(RIGHT($H$19,2)="手当",$H$19,$H$19&"手当")) -> 手当8 | B40: 入力
A41: =IF($H$20="","手当9",IF(RIGHT($H$20,2)="手当",$H$20,$H$20&"手当")) -> 手当9 | B41: 入力
A42: =IF($H$21="","手当10",IF(RIGHT($H$21,2)="手当",$H$21,$H$21&"手当")) -> 手当10 | B42: 入力
A43: （D）控除額 | B43: 入力
A44: 合計 | B44: 自動 | C44: =IF(OR(C26="",C32=""),"",IFERROR(IF(C26="月給",SUM(C32:C42)-IF(C43="",0,C43),IF(C26="日給",C32*20+SUM(C33:C42),IF(C26="時給",C32*160+SUM(C33:C42),""))),"")) | D44: =IF(OR(D26="",D32=""),"",IFERROR(IF(D26="月給",SUM(D32:D42)-IF(D43="",0,D43),IF(D26="日給",D32*20+SUM(D33:D42),IF(D26="時給",D32*160+SUM(D33:D42),""))),"")) | E44: =IF(OR(E26="",E32=""),"",IFERROR(IF(E26="月給",SUM(E32:E42)-IF(E43="",0,E43),IF(E26="日給",E32*20+SUM(E33:E42),IF(E26="時給",E32*160+SUM(E33:E42),""))),"")) | F44: =IF(OR(F26="",F32=""),"",IFERROR(IF(F26="月給",SUM(F32:F42)-IF(F43="",0,F43),IF(F26="日給",F32*20+SUM(F33:F42),IF(F26="時給",F32*160+SUM(F33:F42),""))),"")) | G44: =IF(OR(G26="",G32=""),"",IFERROR(IF(G26="月給",SUM(G32:G42)-IF(G43="",0,G43),IF(G26="日給",G32*20+SUM(G33:G42),IF(G26="時給",G32*160+SUM(G33:G42),""))),"")) | H44: =IF(OR(H26="",H32=""),"",IFERROR(IF(H26="月給",SUM(H32:H42)-IF(H43="",0,H43),IF(H26="日給",H32*20+SUM(H33:H42),IF(H26="時給",H32*160+SUM(H33:H42),""))),"")) | I44: =IF(OR(I26="",I32=""),"",IFERROR(IF(I26="月給",SUM(I32:I42)-IF(I43="",0,I43),IF(I26="日給",I32*20+SUM(I33:I42),IF(I26="時給",I32*160+SUM(I33:I42),""))),"")) | J44: =IF(OR(J26="",J32=""),"",IFERROR(IF(J26="月給",SUM(J32:J42)-IF(J43="",0,J43),IF(J26="日給",J32*20+SUM(J33:J42),IF(J26="時給",J32*160+SUM(J33:J42),""))),"")) | ... L44: =IF(OR(L26="",L32=""),"",IFERROR(IF(L26="月給",SUM(L32:L42)-IF(L43="",0,L43),IF(L26="日給",L32*20+SUM(L33:L42),IF(L26="時給",L32*160+SUM(L33:L42),""))),""))
A45: 賃上げ月
...

Sheet 11人～20人
A1: （第8号様式 別紙1）
A2: No | C2: 11 | D2: 12 | E2: 13 | F2: 14 | G2: 15 | H2: 16 | I2: 17 | J2: 18 | K2: 19 | L2: 20
A3: （A）氏名 | B3: 入力
A4: 雇用形態 | B4: 入力
A5: 給与形態 | B5: 入力
A6: （E）月平均所定労働時間 | B6: 自動 | C6: =IF(C5="","",IF(C5="月給",160,"-")) | D6: =IF(D5="","",IF(D5="月給",160,"-")) | E6: =IF(E5="","",IF(E5="月給",160,"-")) | F6: =IF(F5="","",IF(F5="月給",160,"-")) | G6: =IF(G5="","",IF(G5="月給",160,"-")) | H6: =IF(H5="","",IF(H5="月給",160,"-")) | I6: =IF(I5="","",IF(I5="月給",160,"-")) | J6: =IF(J5="","",IF(J5="月給",160,"-")) | ... L6: =IF(L5="","",IF(L5="月給",160,"-"))
A7: （E）1日所定労働時間 | B7: 自動 | C7: =IF(C5="","",IF(OR(C5="月給",C5="日給"),8,IF(C5="時給",1,""))) | D7: =IF(D5="","",IF(OR(D5="月給",D5="日給"),8,IF(D5="時給",1,""))) | E7: =IF(E5="","",IF(OR(E5="月給",E5="日給"),8,IF(E5="時給",1,""))) | F7: =IF(F5="","",IF(OR(F5="月給",F5="日給"),8,IF(F5="時給",1,""))) | G7: =IF(G5="","",IF(OR(G5="月給",G5="日給"),8,IF(G5="時給",1,""))) | H7: =IF(H5="","",IF(OR(H5="月給",H5="日給"),8,IF(H5="時給",1,""))) | I7: =IF(I5="","",IF(OR(I5="月給",I5="日給"),8,IF(I5="時給",1,""))) | J7: =IF(J5="","",IF(OR(J5="月給",J5="日給"),8,IF(J5="時給",1,""))) | ... L7: =IF(L5="","",IF(OR(L5="月給",L5="日給"),8,IF(L5="時給",1,"")))
A8: 基準月
A9: （C）基準月 | C9: 45992
A10: 支給日 | B10: 入力
A11: （B）基本給 （月給/日給/時給） | B11: 入力
A12: =IF('実績報告（1人～10人）'!$D$17="","手当1",IF(RIGHT('実績報告（1人～10人）'!$D$17,2)="手当",'実績報告（1人～10人）'!$D$17,'実績報告（1人～10人）'!$D$17&"手当")) -> 手当1 | B12: 入力
A13: =IF('実績報告（1人～10人）'!$D$18="","手当2",IF(RIGHT('実績報告（1人～10人）'!$D$18,2)="手当",'実績報告（1人～10人）'!$D$18,'実績報告（1人～10人）'!$D$18&"手当")) -> 手当2 | B13: 入力
A14: =IF('実績報告（1人～10人）'!$D$19="","手当3",IF(RIGHT('実績報告（1人～10人）'!$D$19,2)="手当",'実績報告（1人～10人）'!$D$19,'実績報告（1人～10人）'!$D$19&"手当")) -> 手当3 | B14: 入力
A15: =IF('実績報告（1人～10人）'!$D$20="","手当4",IF(RIGHT('実績報告（1人～10人）'!$D$20,2)="手当",'実績報告（1人～10人）'!$D$20,'実績報告（1人～10人）'!$D$20&"手当")) -> 手当4 | B15: 入力
A16: =IF('実績報告（1人～10人）'!$D$21="","手当5",IF(RIGHT('実績報告（1人～10人）'!$D$21,2)="手当",'実績報告（1人～10人）'!$D$21,'実績報告（1人～10人）'!$D$21&"手当")) -> 手当5 | B16: 入力
A17: =IF('実績報告（1人～10人）'!$H$17="","手当6",IF(RIGHT('実績報告（1人～10人）'!$H$17,2)="手当",'実績報告（1人～10人）'!$H$17,'実績報告（1人～10人）'!$H$17&"手当")) -> 手当6 | B17: 入力
A18: =IF('実績報告（1人～10人）'!$H$18="","手当7",IF(RIGHT('実績報告（1人～10人）'!$H$18,2)="手当",'実績報告（1人～10人）'!$H$18,'実績報告（1人～10人）'!$H$18&"手当")) -> 手当7 | B18: 入力
A19: =IF('実績報告（1人～10人）'!$H$19="","手当8",IF(RIGHT('実績報告（1人～10人）'!$H$19,2)="手当",'実績報告（1人～10人）'!$H$19,'実績報告（1人～10人）'!$H$19&"手当")) -> 手当8 | B19: 入力
A20: =IF('実績報告（1人～10人）'!$H$20="","手当9",IF(RIGHT('実績報告（1人～10人）'!$H$20,2)="手当",'実績報告（1人～10人）'!$H$20,'実績報告（1人～10人）'!$H$20&"手当")) -> 手当9 | B20: 入力
A21: =IF('実績報告（1人～10人）'!$H$21="","手当10",IF(RIGHT('実績報告（1人～10人）'!$H$21,2)="手当",'実績報告（1人～10人）'!$H$21,'実績報告（1人～10人）'!$H$21&"手当")) -> 手当10 | B21: 入力
A22: （D）控除額 | B22: 入力
A23: 合計 | B23: 自動 | C23: =IF(OR(C5="",C11=""),"",IFERROR(IF(C5="月給",SUM(C11:C21)-IF(C22="",0,C22),IF(C5="日給",C11*20+SUM(C12:C21),IF(C5="時給",C11*160+SUM(C12:C21),""))),"")) | D23: =IF(OR(D5="",D11=""),"",IFERROR(IF(D5="月給",SUM(D11:D21)-IF(D22="",0,D22),IF(D5="日給",D11*20+SUM(D12:D21),IF(D5="時給",D11*160+SUM(D12:D21),""))),"")) | E23: =IF(OR(E5="",E11=""),"",IFERROR(IF(E5="月給",SUM(E11:E21)-IF(E22="",0,E22),IF(E5="日給",E11*20+SUM(E12:E21),IF(E5="時給",E11*160+SUM(E12:E21),""))),"")) | F23: =IF(OR(F5="",F11=""),"",IFERROR(IF(F5="月給",SUM(F11:F21)-IF(F22="",0,F22),IF(F5="日給",F11*20+SUM(F12:F21),IF(F5="時給",F11*160+SUM(F12:F21),""))),"")) | G23: =IF(OR(G5="",G11=""),"",IFERROR(IF(G5="月給",SUM(G11:G21)-IF(G22="",0,G22),IF(G5="日給",G11*20+SUM(G12:G21),IF(G5="時給",G11*160+SUM(G12:G21),""))),"")) | H23: =IF(OR(H5="",H11=""),"",IFERROR(IF(H5="月給",SUM(H11:H21)-IF(H22="",0,H22),IF(H5="日給",H11*20+SUM(H12:H21),IF(H5="時給",H11*160+SUM(H12:H21),""))),"")) | I23: =IF(OR(I5="",I11=""),"",IFERROR(IF(I5="月給",SUM(I11:I21)-IF(I22="",0,I22),IF(I5="日給",I11*20+SUM(I12:I21),IF(I5="時給",I11*160+SUM(I12:I21),""))),"")) | J23: =IF(OR(J5="",J11=""),"",IFERROR(IF(J5="月給",SUM(J11:J21)-IF(J22="",0,J22),IF(J5="日給",J11*20+SUM(J12:J21),IF(J5="時給",J11*160+SUM(J12:J21),""))),"")) | ... L23: =IF(OR(L5="",L11=""),"",IFERROR(IF(L5="月給",SUM(L11:L21)-IF(L22="",0,L22),IF(L5="日給",L11*20+SUM(L12:L21),IF(L5="時給",L11*160+SUM(L12:L21),""))),""))
A24: 賃上げ月
A25: （C）賃上げ月 | B25: 入力
A26: 支給日 | B26: 入力
A27: （B）基本給 （月給/日給/時給） | B27: 入力
A28: =IF('実績報告（1人～10人）'!$D$17="","手当1",IF(RIGHT('実績報告（1人～10人）'!$D$17,2)="手当",'実績報告（1人～10人）'!$D$17,'実績報告（1人～10人）'!$D$17&"手当")) -> 手当1 | B28: 入力
A29: =IF('実績報告（1人～10人）'!$D$18="","手当2",IF(RIGHT('実績報告（1人～10人）'!$D$18,2)="手当",'実績報告（1人～10人）'!$D$18,'実績報告（1人～10人）'!$D$18&"手当")) -> 手当2 | B29: 入力
A30: =IF('実績報告（1人～10人）'!$D$19="","手当3",IF(RIGHT('実績報告（1人～10人）'!$D$19,2)="手当",'実績報告（1人～10人）'!$D$19,'実績報告（1人～10人）'!$D$19&"手当")) -> 手当3 | B30: 入力
A31: =IF('実績報告（1人～10人）'!$D$20="","手当4",IF(RIGHT('実績報告（1人～10人）'!$D$20,2)="手当",'実績報告（1人～10人）'!$D$20,'実績報告（1人～10人）'!$D$20&"手当")) -> 手当4 | B31: 入力
A32: =IF('実績報告（1人～10人）'!$D$21="","手当5",IF(RIGHT('実績報告（1人～10人）'!$D$21,2)="手当",'実績報告（1人～10人）'!$D$21,'実績報告（1人～10人）'!$D$21&"手当")) -> 手当5 | B32: 入力
A33: =IF('実績報告（1人～10人）'!$H$17="","手当6",IF(RIGHT('実績報告（1人～10人）'!$H$17,2)="手当",'実績報告（1人～10人）'!$H$17,'実績報告（1人～10人）'!$H$17&"手当")) -> 手当6 | B33: 入力
A34: =IF('実績報告（1人～10人）'!$H$18="","手当7",IF(RIGHT('実績報告（1人～10人）'!$H$18,2)="手当",'実績報告（1人～10人）'!$H$18,'実績報告（1人～10人）'!$H$18&"手当")) -> 手当7 | B34: 入力
A35: =IF('実績報告（1人～10人）'!$H$19="","手当8",IF(RIGHT('実績報告（1人～10人）'!$H$19,2)="手当",'実績報告（1人～10人）'!$H$19,'実績報告（1人～10人）'!$H$19&"手当")) -> 手当8 | B35: 入力
A36: =IF('実績報告（1人～10人）'!$H$20="","手当9",IF(RIGHT('実績報告（1人～10人）'!$H$20,2)="手当",'実績報告（1人～10人）'!$H$20,'実績報告（1人～10人）'!$H$20&"手当")) -> 手当9 | B36: 入力
A37: =IF('実績報告（1人～10人）'!$H$21="","手当10",IF(RIGHT('実績報告（1人～10人）'!$H$21,2)="手当",'実績報告（1人～10人）'!$H$21,'実績報告（1人～10人）'!$H$21&"手当")) -> 手当10 | B37: 入力
A38: （D）控除額 | B38: 入力
A39: 合計 | B39: 自動 | C39: =IF(OR(C5="",C27=""),"",IFERROR(IF(C5="月給",SUM(C27:C37)-IF(C38="",0,C38),IF(C5="日給",C27*20+SUM(C28:C37),IF(C5="時給",C27*160+SUM(C28:C37),""))),"")) | D39: =IF(OR(D5="",D27=""),"",IFERROR(IF(D5="月給",SUM(D27:D37)-IF(D38="",0,D38),IF(D5="日給",D27*20+SUM(D28:D37),IF(D5="時給",D27*160+SUM(D28:D37),""))),"")) | E39: =IF(OR(E5="",E27=""),"",IFERROR(IF(E5="月給",SUM(E27:E37)-IF(E38="",0,E38),IF(E5="日給",E27*20+SUM(E28:E37),IF(E5="時給",E27*160+SUM(E28:E37),""))),"")) | F39: =IF(OR(F5="",F27=""),"",IFERROR(IF(F5="月給",SUM(F27:F37)-IF(F38="",0,F38),IF(F5="日給",F27*20+SUM(F28:F37),IF(F5="時給",F27*160+SUM(F28:F37),""))),"")) | G39: =IF(OR(G5="",G27=""),"",IFERROR(IF(G5="月給",SUM(G27:G37)-IF(G38="",0,G38),IF(G5="日給",G27*20+SUM(G28:G37),IF(G5="時給",G27*160+SUM(G28:G37),""))),"")) | H39: =IF(OR(H5="",H27=""),"",IFERROR(IF(H5="月給",SUM(H27:H37)-IF(H38="",0,H38),IF(H5="日給",H27*20+SUM(H28:H37),IF(H5="時給",H27*160+SUM(H28:H37),""))),"")) | I39: =IF(OR(I5="",I27=""),"",IFERROR(IF(I5="月給",SUM(I27:I37)-IF(I38="",0,I38),IF(I5="日給",I27*20+SUM(I28:I37),IF(I5="時給",I27*160+SUM(I28:I37),""))),"")) | J39: =IF(OR(J5="",J27=""),"",IFERROR(IF(J5="月給",SUM(J27:J37)-IF(J38="",0,J38),IF(J5="日給",J27*20+SUM(J28:J37),IF(J5="時給",J27*160+SUM(J28:J37),""))),"")) | ... L39: =IF(OR(L5="",L27=""),"",IFERROR(IF(L5="月給",SUM(L27:L37)-IF(L38="",0,L38),IF(L5="日給",L27*20+SUM(L28:L37),IF(L5="時給",L27*160+SUM(L28:L37),""))),""))
A40: 賃上げ率算出
...
